BEGIN:VCALENDAR
VERSION:2.0
PRODID:-//Lone Star Recreation - ECPv6.15.18//NONSGML v1.0//EN
CALSCALE:GREGORIAN
METHOD:PUBLISH
X-ORIGINAL-URL:https://www.lonestarrecreation.com
X-WR-CALDESC:Events for Lone Star Recreation
REFRESH-INTERVAL;VALUE=DURATION:PT1H
X-Robots-Tag:noindex
X-PUBLISHED-TTL:PT1H
BEGIN:VTIMEZONE
TZID:America/Chicago
BEGIN:DAYLIGHT
TZOFFSETFROM:-0600
TZOFFSETTO:-0500
TZNAME:CDT
DTSTART:20240310T080000
END:DAYLIGHT
BEGIN:STANDARD
TZOFFSETFROM:-0500
TZOFFSETTO:-0600
TZNAME:CST
DTSTART:20241103T070000
END:STANDARD
BEGIN:DAYLIGHT
TZOFFSETFROM:-0600
TZOFFSETTO:-0500
TZNAME:CDT
DTSTART:20250309T080000
END:DAYLIGHT
BEGIN:STANDARD
TZOFFSETFROM:-0500
TZOFFSETTO:-0600
TZNAME:CST
DTSTART:20251102T070000
END:STANDARD
BEGIN:DAYLIGHT
TZOFFSETFROM:-0600
TZOFFSETTO:-0500
TZNAME:CDT
DTSTART:20260308T080000
END:DAYLIGHT
BEGIN:STANDARD
TZOFFSETFROM:-0500
TZOFFSETTO:-0600
TZNAME:CST
DTSTART:20261101T070000
END:STANDARD
END:VTIMEZONE
BEGIN:VEVENT
DTSTART;VALUE=DATE:20251010
DTEND;VALUE=DATE:20251014
DTSTAMP:20260421T042729
CREATED:20250826T163318Z
LAST-MODIFIED:20250826T163318Z
UID:10000043-1760054400-1760399999@www.lonestarrecreation.com
SUMMARY:ASLA 2025 Conference on Landscape Architecture
DESCRIPTION:Learn More
URL:https://www.lonestarrecreation.com/event/asla-2025-conference-on-landscape-architecture/
LOCATION:New Orleans\, LA
ATTACH;FMTTYPE=image/jpeg:https://www.lonestarrecreation.com/wp-content/uploads/2025/08/Web_Presentation-OR-Farragut-Park-58-1.jpg
END:VEVENT
END:VCALENDAR