BEGIN:VCALENDAR
VERSION:2.0
PRODID:-//Lone Star Recreation - ECPv6.15.18//NONSGML v1.0//EN
CALSCALE:GREGORIAN
METHOD:PUBLISH
X-WR-CALNAME:Lone Star Recreation
X-ORIGINAL-URL:https://www.lonestarrecreation.com
X-WR-CALDESC:Events for Lone Star Recreation
REFRESH-INTERVAL;VALUE=DURATION:PT1H
X-Robots-Tag:noindex
X-PUBLISHED-TTL:PT1H
BEGIN:VTIMEZONE
TZID:America/Chicago
BEGIN:DAYLIGHT
TZOFFSETFROM:-0600
TZOFFSETTO:-0500
TZNAME:CDT
DTSTART:20200308T080000
END:DAYLIGHT
BEGIN:STANDARD
TZOFFSETFROM:-0500
TZOFFSETTO:-0600
TZNAME:CST
DTSTART:20201101T070000
END:STANDARD
BEGIN:DAYLIGHT
TZOFFSETFROM:-0600
TZOFFSETTO:-0500
TZNAME:CDT
DTSTART:20210314T080000
END:DAYLIGHT
BEGIN:STANDARD
TZOFFSETFROM:-0500
TZOFFSETTO:-0600
TZNAME:CST
DTSTART:20211107T070000
END:STANDARD
BEGIN:DAYLIGHT
TZOFFSETFROM:-0600
TZOFFSETTO:-0500
TZNAME:CDT
DTSTART:20220313T080000
END:DAYLIGHT
BEGIN:STANDARD
TZOFFSETFROM:-0500
TZOFFSETTO:-0600
TZNAME:CST
DTSTART:20221106T070000
END:STANDARD
BEGIN:DAYLIGHT
TZOFFSETFROM:-0600
TZOFFSETTO:-0500
TZNAME:CDT
DTSTART:20230312T080000
END:DAYLIGHT
BEGIN:STANDARD
TZOFFSETFROM:-0500
TZOFFSETTO:-0600
TZNAME:CST
DTSTART:20231105T070000
END:STANDARD
BEGIN:DAYLIGHT
TZOFFSETFROM:-0600
TZOFFSETTO:-0500
TZNAME:CDT
DTSTART:20240310T080000
END:DAYLIGHT
BEGIN:STANDARD
TZOFFSETFROM:-0500
TZOFFSETTO:-0600
TZNAME:CST
DTSTART:20241103T070000
END:STANDARD
END:VTIMEZONE
BEGIN:VEVENT
DTSTART;VALUE=DATE:20230110
DTEND;VALUE=DATE:20230111
DTSTAMP:20260422T060527
CREATED:20230104T153710Z
LAST-MODIFIED:20230104T153710Z
UID:10000017-1673308800-1673395199@www.lonestarrecreation.com
SUMMARY:TRAPS East Region Workshop
DESCRIPTION:
URL:https://www.lonestarrecreation.com/event/traps-east-region-workshop/
LOCATION:TX
ATTACH;FMTTYPE=image/jpeg:https://www.lonestarrecreation.com/wp-content/uploads/2023/01/Web_Presentation-CAN-McCormick-Park-99.jpg
END:VEVENT
BEGIN:VEVENT
DTSTART;TZID=America/Chicago:20221005T000000
DTEND;TZID=America/Chicago:20221007T000000
DTSTAMP:20260422T060527
CREATED:20220711T165944Z
LAST-MODIFIED:20220711T165944Z
UID:10000015-1664928000-1665100800@www.lonestarrecreation.com
SUMMARY:TML Annual Conference and Exhibition
DESCRIPTION:Learn More
URL:https://www.lonestarrecreation.com/event/tml-annual-conference-and-exhibition/
LOCATION:TX
ATTACH;FMTTYPE=image/jpeg:https://www.lonestarrecreation.com/wp-content/uploads/2022/07/KS-Sar-Ko-Par-Trails-Park-47-scaled.jpg
END:VEVENT
BEGIN:VEVENT
DTSTART;VALUE=DATE:20220920
DTEND;VALUE=DATE:20220923
DTSTAMP:20260422T060527
CREATED:20220425T150538Z
LAST-MODIFIED:20220425T150538Z
UID:10000014-1663632000-1663891199@www.lonestarrecreation.com
SUMMARY:NRPA Annual Conference
DESCRIPTION:Learn More
URL:https://www.lonestarrecreation.com/event/nrpa-annual-conference/
LOCATION:Phoenix\, AZ
ATTACH;FMTTYPE=image/jpeg:https://www.lonestarrecreation.com/wp-content/uploads/2022/04/MN-Up-North-Learning-Center--scaled.jpg
END:VEVENT
BEGIN:VEVENT
DTSTART;VALUE=DATE:20220820
DTEND;VALUE=DATE:20220821
DTSTAMP:20260422T060527
CREATED:20220809T171720Z
LAST-MODIFIED:20220809T171720Z
UID:10000016-1660953600-1661039999@www.lonestarrecreation.com
SUMMARY:AIA Sandcastle Competition
DESCRIPTION:Learn More
URL:https://www.lonestarrecreation.com/event/aia-sandcastle-competition/
LOCATION:TX
ATTACH;FMTTYPE=image/jpeg:https://www.lonestarrecreation.com/wp-content/uploads/2022/08/Web_Presentation-TX-Victoria-Park-037.jpg
END:VEVENT
BEGIN:VEVENT
DTSTART;VALUE=DATE:20220623
DTEND;VALUE=DATE:20220626
DTSTAMP:20260422T060527
CREATED:20220425T150247Z
LAST-MODIFIED:20220526T155026Z
UID:10000013-1655942400-1656201599@www.lonestarrecreation.com
SUMMARY:AWBD Annual Conference
DESCRIPTION:Learn More
URL:https://www.lonestarrecreation.com/event/awbd-annual-conference/
LOCATION:Fort Worth\, TX
ATTACH;FMTTYPE=image/jpeg:https://www.lonestarrecreation.com/wp-content/uploads/2022/04/KS-Maize-Early-Childhood-Center-33-scaled.jpg
END:VEVENT
BEGIN:VEVENT
DTSTART;VALUE=DATE:20220419
DTEND;VALUE=DATE:20220422
DTSTAMP:20260422T060527
CREATED:20220120T210118Z
LAST-MODIFIED:20220120T210118Z
UID:10000012-1650326400-1650585599@www.lonestarrecreation.com
SUMMARY:Texas ASLA Conference
DESCRIPTION:Learn More
URL:https://www.lonestarrecreation.com/event/texas-asla-conference/
LOCATION:San Antonio\, TX\, San Antonio\, TX
ATTACH;FMTTYPE=image/jpeg:https://www.lonestarrecreation.com/wp-content/uploads/2022/01/riverwalk.jpg
END:VEVENT
BEGIN:VEVENT
DTSTART;VALUE=DATE:20220322
DTEND;VALUE=DATE:20220323
DTSTAMP:20260422T060527
CREATED:20211129T154202Z
LAST-MODIFIED:20211130T175604Z
UID:10000011-1647907200-1647993599@www.lonestarrecreation.com
SUMMARY:PTO Today Expo
DESCRIPTION:Learn More
URL:https://www.lonestarrecreation.com/event/pto-today-expo/
LOCATION:Conroe TX\, Conroe\, TX
ATTACH;FMTTYPE=image/jpeg:https://www.lonestarrecreation.com/wp-content/uploads/2021/11/MS_-Assisi-Early-Learning-Center_-038-scaled.jpg
END:VEVENT
BEGIN:VEVENT
DTSTART;VALUE=DATE:20220215
DTEND;VALUE=DATE:20220219
DTSTAMP:20260422T060527
CREATED:20211129T154048Z
LAST-MODIFIED:20211130T175537Z
UID:10000010-1644883200-1645228799@www.lonestarrecreation.com
SUMMARY:TRAPS Institute and Expo
DESCRIPTION:Learn More
URL:https://www.lonestarrecreation.com/event/traps-institute-and-expo/
LOCATION:College Station TX\, College Station\, TX
ATTACH;FMTTYPE=image/jpeg:https://www.lonestarrecreation.com/wp-content/uploads/2021/11/Texas-AM-Hotel-and-Conference-Center.jpg
END:VEVENT
BEGIN:VEVENT
DTSTART;VALUE=DATE:20211209
DTEND;VALUE=DATE:20211210
DTSTAMP:20260422T060527
CREATED:20211129T153953Z
LAST-MODIFIED:20211130T174125Z
UID:10000009-1639008000-1639094399@www.lonestarrecreation.com
SUMMARY:TRAPS East Region Holiday Party
DESCRIPTION:Learn More
URL:https://www.lonestarrecreation.com/event/traps-east-region-holiday-party/
LOCATION:Katy TX\, Katy\, TX
ATTACH;FMTTYPE=image/png:https://www.lonestarrecreation.com/wp-content/uploads/2021/11/toddy-oaks-lights.png
END:VEVENT
END:VCALENDAR